BEGIN:VCALENDAR
VERSION:2.0
PRODID:-//Washington Township - ECPv6.15.20//NONSGML v1.0//EN
CALSCALE:GREGORIAN
METHOD:PUBLISH
X-ORIGINAL-URL:https://washington-twp.com
X-WR-CALDESC:Events for Washington Township
REFRESH-INTERVAL;VALUE=DURATION:PT1H
X-Robots-Tag:noindex
X-PUBLISHED-TTL:PT1H
BEGIN:VTIMEZONE
TZID:UTC
BEGIN:STANDARD
TZOFFSETFROM:+0000
TZOFFSETTO:+0000
TZNAME:UTC
DTSTART:20190101T000000
END:STANDARD
END:VTIMEZONE
BEGIN:VEVENT
DTSTART;TZID=UTC:20201015T180000
DTEND;TZID=UTC:20201015T193000
DTSTAMP:20260421T071037
CREATED:20201007T193927Z
LAST-MODIFIED:20201016T213913Z
UID:1132-1602784800-1602790200@washington-twp.com
SUMMARY:Trustee Meeting 10/15/2020
DESCRIPTION:Monthly Scheduled Trustee Meeting \nDue to COVID\, the public is asked to call in at +1 (978) 990-5000\, use access code 803 733#
URL:https://washington-twp.com/event/trustee-meeting-10-15-2020/
LOCATION:Fire Station/Administration Offices\, 2469 Shoreland Ave\,\, Toledo\, OH\, 43611\, United States
CATEGORIES:Trustee Meetings
END:VEVENT
BEGIN:VEVENT
DTSTART;TZID=UTC:20201021T180000
DTEND;TZID=UTC:20201021T193000
DTSTAMP:20260421T071037
CREATED:20201017T003425Z
LAST-MODIFIED:20201017T003953Z
UID:1478-1603303200-1603308600@washington-twp.com
SUMMARY:Special Meeting 10/21/2020
DESCRIPTION:Agenda\n\n2021 Fire Department budget\nCARES Act funding allocation\n\nUse conference call number 1-978-990-5000\, access code 803 733 #
URL:https://washington-twp.com/event/special-meeting-10-21-2020/
LOCATION:Washington Township Hall\, 5714 Blessing Dr.\, Toledo\, OH\, 43612\, United States
CATEGORIES:Trustee Meetings
END:VEVENT
END:VCALENDAR